BEGIN:VCALENDAR
VERSION:2.0
PRODID:-//Going Yard - ECPv6.14.1//NONSGML v1.0//EN
CALSCALE:GREGORIAN
METHOD:PUBLISH
X-ORIGINAL-URL:https://timetogoyard.com
X-WR-CALDESC:Events for Going Yard
REFRESH-INTERVAL;VALUE=DURATION:PT1H
X-Robots-Tag:noindex
X-PUBLISHED-TTL:PT1H
BEGIN:VTIMEZONE
TZID:UTC
BEGIN:STANDARD
TZOFFSETFROM:+0000
TZOFFSETTO:+0000
TZNAME:UTC
DTSTART:20240101T000000
END:STANDARD
END:VTIMEZONE
BEGIN:VEVENT
DTSTART;VALUE=DATE:20250821
DTEND;VALUE=DATE:20250822
DTSTAMP:20260419T142607
CREATED:20250701T222859Z
LAST-MODIFIED:20250811T002321Z
UID:856-1755734400-1755820799@timetogoyard.com
SUMMARY:UNDER THE LIGHTS AT "THE LAND" 2025
DESCRIPTION:[vc_row][vc_column][vc_column_text css=””] \nJoin us this August to experience “Under The Lights” night games at Progressive Field! – hosted by Going Yard Baseball\nJoin us for Under The Lights\, an exclusive event from Going Yard Baseball at iconic Progressive Field—home of the Cleveland Guardians. \n  \nEvent Overview: \n1) Midwest Showcase – (August 20–21) – in partnership with Prospect Dugout: \n \nThe showcase begins with a comprehensive combine\, where high school prospects (ages 15-18) will demonstrate their skills in front of scouts\, coaches\, and industry professionals. Drills\, evaluations\, and performance metrics will be used to identify the top talent\, who will then be selected to participate in an Under the Lights game on Thursday night\, August 21st\, courtesy of Going Yard Baseball. Go to dugoutcombine.com to sign up for the Midwest Showcase. \nUnder The Lights Night Game – (August 21) – hosted by Going Yard: \n \nThe best performers from the showcase will earn the chance to compete in a night cap under the stadium lights at Progressive Field. This is a unique opportunity for prospects to play on a Major League baseball field and gain exposure on this beautiful stage. \n\n\n2) The “Major League” Experience – (August 21–22) – in partnership with Scott Green’s Play At The Plate: \n \nEver wonder what it would be like to be in the big leagues for a day\, or two?!  We make the dream come true\, where you have your chance to be a big leaguer for two days at beautiful Progressive Field in Cleveland\, Ohio.  Enter the ballpark and head down to the visitors clubhouse to setup your own locker\, and get ready for two fun-filled days on a Major League diamond\, courtesy of Scott Green’s Play at the Plate in partnership with Going Yard\, for this once-in-a-lifetime baseball experience for players ages 18 and up. \n*For general event information and registration questions\, please contact us at info@timetogoyard.com \n*Going Yard reserves the exclusive right to adjust all schedule\, times and amenities for the event\, for any reason and whenever necessary \n\n[/vc_column_text][vc_btn title=”Register Now” css=”” link=”url:https%3A%2F%2Ftimetogoyard.com%2Fcleveland-event-registration%2F|title:Cleveland%20Event%20Registration” el_class=”theme-btn”][/vc_column][/vc_row]
URL:https://timetogoyard.com/event/under-the-lights/
LOCATION:progressive field\, Cleveland\, OH\, 44115\, United States
ATTACH;FMTTYPE=image/jpeg:https://timetogoyard.com/wp-content/uploads/2025/07/LAAC3CLZERF2JDYX533OFVHU2A-1-scaled.jpg
ORGANIZER;CN="Going Yard Baseball":MAILTO:info@timetogoyard.com
END:VEVENT
BEGIN:VEVENT
DTSTART;VALUE=DATE:20241004
DTEND;VALUE=DATE:20241006
DTSTAMP:20260419T142607
CREATED:20240528T182413Z
LAST-MODIFIED:20250708T153533Z
UID:360-1728000000-1728172799@timetogoyard.com
SUMMARY:Going Yard Baseball Events
DESCRIPTION:[vc_row][vc_column][vc_column_text css=”” el_class=”theme-content”] \nGoing Yard Baseball – Texas Pro Experience Weekend 2024\nLive like a baseball pro October 4-5\, 2024 in Sugar Land\, Texas\, while playing ball at Constellation Field\, home of our terrific hosts\, the Space Cowboys — AAA affiliate – Houston Astros!  Receive a full red-carpet treatment for your call-up. Come ready and dressed to impress\, for the baseball experience of a lifetime! \nSugar Land Pro Experience Weekend – Inquire about individual\, team\, or group package prices for this unique event.  Limited spots available for purchase (the number of total participants for this event will be capped to a set number of participants\, and once sold out\, no further experiences will be sold so book today![/vc_column_text][vc_row_inner][vc_column_inner width=”1/2″][vc_single_image image=”713″ img_size=”full” alignment=”center” onclick=”link_image” css=”” el_class=”event-img”][/vc_column_inner][vc_column_inner width=”1/2″][vc_single_image image=”714″ img_size=”full” alignment=”center” onclick=”link_image” css=”” el_class=”event-img”][/vc_column_inner][/vc_row_inner][/vc_column][/vc_row][vc_row][vc_column][vc_column_text css=”” el_class=”theme-content”] \nYour Pro Experience Package includes:\n\n\nPLAYING BALL EXCLUSIVELY AT AN MILB VENUE ALL DAY LONG:  Enjoy the privilege of having the opportunity to play at magnificent Constellation Field\, home of MILB’s Space Cowboys – – AAA Affiliate Houston Astros…with special access to its beautiful field\, dugouts\, bullpens\, visitors clubhouse\, and all other approved access areas and amenities therein\nFULL AGENDA OF BASEBALL ACTIVITY:  Placement on teams for a game and batting practice groups by Going Yard staff\, giving participants an end-to-end experience\, with plenty of special amenities and fun\, just like the pros get.\nWELCOME EVENING: Welcome evening will entail moving into the Visitors Clubhouse where you will receive : \n\nYOUR OWN LOCKER\, with customized nameplate\, in the visitor’s clubhouse for your call-up weekend – to store your gear and apparel. \nCUSTOM HEADSHOTS taken prior to batting practice\, which will appear on the scoreboard during the event.\n\n\nON-FIELD BATTING PRACTICE full session where you kick off your baseball experience like the pros prior to your games\, complete setup with screens\, main hitting shell\, and Going Yard staff administering a great lead-up to game play. \nONE (1) EXTENDED GAME in your day of play\, with a modified rule structure to accommodate players of all experience levels\, complete with umpires and managed with on-field Going Yard staff who will facilitate participation and maximize on-field time\, allowing participants to compete and have fun playing on one of the most beautiful baseball surfaces anywhere\n DESIGNATED SPECTATOR SEATING AREA BEHIND HOME PLATE in premium seating\, to welcome any guests who will come watch you compete across the weekend\, from the most comfortable seats in the ballpark.\nATHLETIC TRAINERS AND PROFESSIONAL COACHES: Going Yard cares about its participants having the best experience\, so we will have professional coaches\, athletic\, and other medical trainers available to all participants\, on field and in the clubhouse\, across the event weekend.\nFULL VIDEO AND PHOTOGRAPHY crew capturing the events of the weekend and your participation\nCUSTOM WALK-UP SONG WITH VIDEO BOARD ANNOUNCEMENT when you first step to the plate\, captured and provided for your forever use\, even on all your social media – about as pro and as close to the show as you can ever ask for!\nOFFICIAL GOING YARD BATTING PRACTICE JERSEY\, HAT AND EVENT T-SHIRT for all participants\, hung neatly in your locker when you arrive\nLUNCH\, SNACKS AND ALL YOU CAN DRINK available for our guests in the clubhouse throughout the weekend\nCORPORATE PARTNERS AND VENDORS on site and in the clubhouse\, to make your acquaintance\, and provide exclusive baseball products or services to our clients\nGOING YARD STAFF available and at your disposal throughout the event weekend in all access areas\, helping personalize and provide the same level of attention that the pros receive\nTHE GOING YARD TEAM plans to mix in a few more surprises along the way\, en route to your soon-to-be best baseball experience ever!\n\n\n*Going Yard reserves the exclusive right to adjust all schedule\, times and amenities for the event\, for any reason and whenever necessary\n[/vc_column_text][vc_btn title=”Inquire for Team or Group Pricing” css=”” link=”url:https%3A%2F%2Ftimetogoyard.com%2Fcontact-us%2F” el_class=”theme-btn”][/vc_column][/vc_row]
URL:https://timetogoyard.com/event/going-yard-baseball-events/
LOCATION:Constellation Field\, 1 Stadium Dr.\, Sugar Land\, TX\, 77498\, United States
ATTACH;FMTTYPE=image/avif:https://timetogoyard.com/wp-content/uploads/2024/05/Constellation-Field-3.avif
END:VEVENT
END:VCALENDAR